BEGIN:VCALENDAR
VERSION:2.0
PRODID:-//Point Richmond Neighborhood Council (PRNC) - ECPv6.15.20//NONSGML v1.0//EN
CALSCALE:GREGORIAN
METHOD:PUBLISH
X-WR-CALNAME:Point Richmond Neighborhood Council (PRNC)
X-ORIGINAL-URL:https://pointrichmond.org
X-WR-CALDESC:Events for Point Richmond Neighborhood Council (PRNC)
REFRESH-INTERVAL;VALUE=DURATION:PT1H
X-Robots-Tag:noindex
X-PUBLISHED-TTL:PT1H
BEGIN:VTIMEZONE
TZID:America/Los_Angeles
BEGIN:DAYLIGHT
TZOFFSETFROM:-0800
TZOFFSETTO:-0700
TZNAME:PDT
DTSTART:20220313T100000
END:DAYLIGHT
BEGIN:STANDARD
TZOFFSETFROM:-0700
TZOFFSETTO:-0800
TZNAME:PST
DTSTART:20221106T090000
END:STANDARD
BEGIN:DAYLIGHT
TZOFFSETFROM:-0800
TZOFFSETTO:-0700
TZNAME:PDT
DTSTART:20230312T100000
END:DAYLIGHT
BEGIN:STANDARD
TZOFFSETFROM:-0700
TZOFFSETTO:-0800
TZNAME:PST
DTSTART:20231105T090000
END:STANDARD
BEGIN:DAYLIGHT
TZOFFSETFROM:-0800
TZOFFSETTO:-0700
TZNAME:PDT
DTSTART:20240310T100000
END:DAYLIGHT
BEGIN:STANDARD
TZOFFSETFROM:-0700
TZOFFSETTO:-0800
TZNAME:PST
DTSTART:20241103T090000
END:STANDARD
BEGIN:DAYLIGHT
TZOFFSETFROM:-0800
TZOFFSETTO:-0700
TZNAME:PDT
DTSTART:20250309T100000
END:DAYLIGHT
BEGIN:STANDARD
TZOFFSETFROM:-0700
TZOFFSETTO:-0800
TZNAME:PST
DTSTART:20251102T090000
END:STANDARD
END:VTIMEZONE
BEGIN:VEVENT
DTSTART;TZID=America/Los_Angeles:20240413T100000
DTEND;TZID=America/Los_Angeles:20240413T140000
DTSTAMP:20260424T162605
CREATED:20240314T192341Z
LAST-MODIFIED:20240413T205458Z
UID:10000366-1713002400-1713016800@pointrichmond.org
SUMMARY:City of Richmond Annual Literacy Festival 2024
DESCRIPTION:THEME: Richmond is Where Knowledge Has Freedom to Thrive!\n\n\nPlease join us for Richmond’s 2024 Annual Literacy Festival on April 13 from 10 am to 2pm at the Richmond Auditorium. There will be: \nBook Giveaways \nAuthor Talks \nFree Food \nEntertainment \nLibrary Updates \nLocal Author/Illustrator Panel including Robert Liu-Trujillo\, Marissa McGee\, Michael Leali\, A.J. Sass moderated by Tamara Shiloh. \nCommunity vendor tables are available! Vendors are limited to 1 table with 2 chairs. \n \nFor more information contact the City of Richmond’s LEAP program at 510-621-6561.
URL:https://pointrichmond.org/event/city-of-richmond-annual-literacy-festival-2024/
LOCATION:Richmond Convention Center Office\, 403 Civic Center Plaza\, Richmond\, CA\, 94804\, United States
CATEGORIES:community events
ATTACH;FMTTYPE=image/jpeg:https://pointrichmond.org/wp-content/uploads/2024/03/bf5adbf8fdcb6f2eacfe9e62129bfb2d-1-zKilIU.tmp_.jpg
END:VEVENT
BEGIN:VEVENT
DTSTART;TZID=America/Los_Angeles:20231017T083000
DTEND;TZID=America/Los_Angeles:20231017T110000
DTSTAMP:20260424T162605
CREATED:20230812T193820Z
LAST-MODIFIED:20231017T195436Z
UID:10000202-1697531400-1697540400@pointrichmond.org
SUMMARY:Winning The War For Talent
DESCRIPTION:Helping  businesses apply common sense and known businesses practices to recruit and retain talent\n\n\nWhere Did All The People Go And When Are They Coming Back? \nThere are open jobs everywhere but it seems there aren’t any workers for those jobs. We’ll talk about why there is a talent shortage and what can be done about it.  \nWHAT WE’LL COVER \n\nRecognizing the demographic shift that has caused the talent shortage\nWhat is the cost of an open position?\nHow do you create a persona of the ideal applicant?\n\nYour investment results in a custom solution that you can implement right away.
URL:https://pointrichmond.org/event/winning-the-war-for-talent/
LOCATION:Richmond Convention Center Office\, 403 Civic Center Plaza\, Richmond\, CA\, 94804\, United States
CATEGORIES:community events
ATTACH;FMTTYPE=image/jpeg:https://pointrichmond.org/wp-content/uploads/2023/08/eb6d5ed8b59a0e2d0169972750d5be83-fPhAAB.tmp_.jpg
END:VEVENT
END:VCALENDAR